BEGIN:VCALENDAR
VERSION:2.0
PRODID:-//Dortmunder Prinzengarde 2022 e.V. - ECPv6.15.18//NONSGML v1.0//EN
CALSCALE:GREGORIAN
METHOD:PUBLISH
X-WR-CALNAME:Dortmunder Prinzengarde 2022 e.V.
X-ORIGINAL-URL:https://www.dortmunder-prinzengarde.de
X-WR-CALDESC:Veranstaltungen für Dortmunder Prinzengarde 2022 e.V.
REFRESH-INTERVAL;VALUE=DURATION:PT1H
X-Robots-Tag:noindex
X-PUBLISHED-TTL:PT1H
BEGIN:VTIMEZONE
TZID:Europe/Berlin
BEGIN:DAYLIGHT
TZOFFSETFROM:+0100
TZOFFSETTO:+0200
TZNAME:CEST
DTSTART:20210328T010000
END:DAYLIGHT
BEGIN:STANDARD
TZOFFSETFROM:+0200
TZOFFSETTO:+0100
TZNAME:CET
DTSTART:20211031T010000
END:STANDARD
BEGIN:DAYLIGHT
TZOFFSETFROM:+0100
TZOFFSETTO:+0200
TZNAME:CEST
DTSTART:20220327T010000
END:DAYLIGHT
BEGIN:STANDARD
TZOFFSETFROM:+0200
TZOFFSETTO:+0100
TZNAME:CET
DTSTART:20221030T010000
END:STANDARD
BEGIN:DAYLIGHT
TZOFFSETFROM:+0100
TZOFFSETTO:+0200
TZNAME:CEST
DTSTART:20230326T010000
END:DAYLIGHT
BEGIN:STANDARD
TZOFFSETFROM:+0200
TZOFFSETTO:+0100
TZNAME:CET
DTSTART:20231029T010000
END:STANDARD
END:VTIMEZONE
BEGIN:VEVENT
DTSTART;TZID=Europe/Berlin:20221206T180000
DTEND;TZID=Europe/Berlin:20221206T180000
DTSTAMP:20260421T203738
CREATED:20221014T100653Z
LAST-MODIFIED:20221020T130338Z
UID:10000004-1670349600-1670349600@www.dortmunder-prinzengarde.de
SUMMARY:Outdoor - Nikolaus Stammtisch Dortmunder Prinzengarde 2022 e.V.
DESCRIPTION:Stammtisch einmal anders.\nZur gemeinsamen Begehung des Dortmunder Weihnachtsmarktes treffen sich alle Gardistinnen und Gardisten auf dem Weihnachtsmarkt und besuchen den Nikolaus. \nBild: Adobestock by fotoknips
URL:https://www.dortmunder-prinzengarde.de/event/outdoor-nikolaus-stammtisch-dortmunder-prinzengarde-2022-e-v/
LOCATION:Weihnachtsmarkt Dortmund\, Dortmund\, Deutschland
CATEGORIES:Öffentliche Veranstaltung
ATTACH;FMTTYPE=image/jpeg:https://www.dortmunder-prinzengarde.de/wp-content/uploads/2022/10/prinzengarde-weihnachtsmarkt.jpg
ORGANIZER;CN="Dortmunder Prinzengarde 2022 e.V.":MAILTO:info@dortmunder-prinzengarde.de
END:VEVENT
END:VCALENDAR