BEGIN:VCALENDAR
VERSION:2.0
PRODID:-//Dortmunder Prinzengarde 2022 e.V. - ECPv6.15.18//NONSGML v1.0//EN
CALSCALE:GREGORIAN
METHOD:PUBLISH
X-WR-CALNAME:Dortmunder Prinzengarde 2022 e.V.
X-ORIGINAL-URL:https://www.dortmunder-prinzengarde.de
X-WR-CALDESC:Veranstaltungen für Dortmunder Prinzengarde 2022 e.V.
REFRESH-INTERVAL;VALUE=DURATION:PT1H
X-Robots-Tag:noindex
X-PUBLISHED-TTL:PT1H
BEGIN:VTIMEZONE
TZID:Europe/Berlin
BEGIN:DAYLIGHT
TZOFFSETFROM:+0100
TZOFFSETTO:+0200
TZNAME:CEST
DTSTART:20220327T010000
END:DAYLIGHT
BEGIN:STANDARD
TZOFFSETFROM:+0200
TZOFFSETTO:+0100
TZNAME:CET
DTSTART:20221030T010000
END:STANDARD
BEGIN:DAYLIGHT
TZOFFSETFROM:+0100
TZOFFSETTO:+0200
TZNAME:CEST
DTSTART:20230326T010000
END:DAYLIGHT
BEGIN:STANDARD
TZOFFSETFROM:+0200
TZOFFSETTO:+0100
TZNAME:CET
DTSTART:20231029T010000
END:STANDARD
BEGIN:DAYLIGHT
TZOFFSETFROM:+0100
TZOFFSETTO:+0200
TZNAME:CEST
DTSTART:20240331T010000
END:DAYLIGHT
BEGIN:STANDARD
TZOFFSETFROM:+0200
TZOFFSETTO:+0100
TZNAME:CET
DTSTART:20241027T010000
END:STANDARD
BEGIN:DAYLIGHT
TZOFFSETFROM:+0100
TZOFFSETTO:+0200
TZNAME:CEST
DTSTART:20250330T010000
END:DAYLIGHT
BEGIN:STANDARD
TZOFFSETFROM:+0200
TZOFFSETTO:+0100
TZNAME:CET
DTSTART:20251026T010000
END:STANDARD
END:VTIMEZONE
BEGIN:VEVENT
DTSTART;TZID=Europe/Berlin:20240413T150000
DTEND;TZID=Europe/Berlin:20240413T150000
DTSTAMP:20260421T221421
CREATED:20240228T105123Z
LAST-MODIFIED:20240228T105235Z
UID:10000217-1713020400-1713020400@www.dortmunder-prinzengarde.de
SUMMARY:Jahreshauptversammlung der Dortmunder Prinzengarde 2022 e.V.
DESCRIPTION:*** interne Veranstaltung\, KEINE Gäste ***\nEinladung mit Tagesordnung ist per E-Mail versendet worden.
URL:https://www.dortmunder-prinzengarde.de/event/jahreshauptversammlung-der-dortmunder-prinzengarde-2022-e-v-25/
LOCATION:Porree-Bar Dortmund\, Holzwickeder Straße 70\, Dortmund\, 44309
CATEGORIES:Geschlossene Veranstaltung
ATTACH;FMTTYPE=image/jpeg:https://www.dortmunder-prinzengarde.de/wp-content/uploads/2024/02/Garde-Slider-5.jpg
ORGANIZER;CN="Dortmunder Prinzengarde 2022 e.V.":MAILTO:info@dortmunder-prinzengarde.de
END:VEVENT
BEGIN:VEVENT
DTSTART;TZID=Europe/Berlin:20231103T180000
DTEND;TZID=Europe/Berlin:20231103T180000
DTSTAMP:20260421T221421
CREATED:20230516T140653Z
LAST-MODIFIED:20230516T141255Z
UID:10000021-1699034400-1699034400@www.dortmunder-prinzengarde.de
SUMMARY:Großer Regimentsabend der Dortmunder Prinzengarde 2022 e.V.
DESCRIPTION:Großer Regimentsabend mit Fahnenschwur und Beförderungen oder Ernennungen in der Porree-Bar in Dortmund-Neuasseln.
URL:https://www.dortmunder-prinzengarde.de/event/grosser-regimentsabend-der-dortmunder-prinzengarde-2022-e-v/
LOCATION:Porree-Bar Dortmund\, Holzwickeder Straße 70\, Dortmund\, 44309
CATEGORIES:Geschlossene Veranstaltung
ATTACH;FMTTYPE=image/jpeg:https://www.dortmunder-prinzengarde.de/wp-content/uploads/2022/11/prinzengarde-dg-5.jpg
ORGANIZER;CN="Dortmunder Prinzengarde 2022 e.V.":MAILTO:info@dortmunder-prinzengarde.de
END:VEVENT
BEGIN:VEVENT
DTSTART;TZID=Europe/Berlin:20230814T190000
DTEND;TZID=Europe/Berlin:20230814T190000
DTSTAMP:20260421T221421
CREATED:20230711T083252Z
LAST-MODIFIED:20230712T083044Z
UID:10000025-1692039600-1692039600@www.dortmunder-prinzengarde.de
SUMMARY:Mitgliederversammlung der Dortmunder Prinzengarde 2022 e.V.
DESCRIPTION:Wir treffen uns zum Austausch von Informationen.\n \nBild: Adobestock by giadophoto
URL:https://www.dortmunder-prinzengarde.de/event/mitgliederversammlung-der-dortmunder-prinzengarde-2022-e-v-2/
LOCATION:Porree-Bar Dortmund\, Holzwickeder Straße 70\, Dortmund\, 44309
CATEGORIES:Geschlossene Veranstaltung
ATTACH;FMTTYPE=image/jpeg:https://www.dortmunder-prinzengarde.de/wp-content/uploads/2023/07/dopg-mitgliederversammlung.jpg
ORGANIZER;CN="Dortmunder Prinzengarde 2022 e.V.":MAILTO:info@dortmunder-prinzengarde.de
END:VEVENT
BEGIN:VEVENT
DTSTART;TZID=Europe/Berlin:20230606T190000
DTEND;TZID=Europe/Berlin:20230606T190000
DTSTAMP:20260421T221421
CREATED:20230102T110902Z
LAST-MODIFIED:20230516T140157Z
UID:10000010-1686078000-1686078000@www.dortmunder-prinzengarde.de
SUMMARY:Stammtisch der Dortmunder Prinzengarde 2022 e.V.
DESCRIPTION:Wir treffen uns zu einem geselligen Beisammensein\, Austausch von Informationen\, gutem Essen und Trinken.\nEingeladen zur Teilnahme sind alle Gardisten\, Karnevalisten\, Freunde und Familienangehörige.\n\nAnwesend sind heute Gäste aus Politik \, Wirtschaft und dem Karneval. Sowie jeweils 3 Vertreter der Dortmunder Karnevalsvereine und Festausschuss Dortmunder Karneval.\nGastredner und Ehrengast Oberbürgermeister a.d. Dr. Gerhard Langemeyer. Er referiert zum Thema: „Der Dortmunder Karneval.“ \n\nBild: Adobestock by fottoo
URL:https://www.dortmunder-prinzengarde.de/event/stammtisch-der-dortmunder-prinzengarde-2022-e-v-5/
LOCATION:Porree-Bar Dortmund\, Holzwickeder Straße 70\, Dortmund\, 44309
CATEGORIES:Öffentliche Veranstaltung
ATTACH;FMTTYPE=image/jpeg:https://www.dortmunder-prinzengarde.de/wp-content/uploads/2022/10/prinzengarde-stammtisch.jpg
ORGANIZER;CN="Dortmunder Prinzengarde 2022 e.V.":MAILTO:info@dortmunder-prinzengarde.de
END:VEVENT
END:VCALENDAR