BEGIN:VCALENDAR
VERSION:2.0
PRODID:-//Dortmunder Prinzengarde 2022 e.V. - ECPv6.15.18//NONSGML v1.0//EN
CALSCALE:GREGORIAN
METHOD:PUBLISH
X-ORIGINAL-URL:https://www.dortmunder-prinzengarde.de
X-WR-CALDESC:Veranstaltungen für Dortmunder Prinzengarde 2022 e.V.
REFRESH-INTERVAL;VALUE=DURATION:PT1H
X-Robots-Tag:noindex
X-PUBLISHED-TTL:PT1H
BEGIN:VTIMEZONE
TZID:Europe/Berlin
BEGIN:DAYLIGHT
TZOFFSETFROM:+0100
TZOFFSETTO:+0200
TZNAME:CEST
DTSTART:20230326T010000
END:DAYLIGHT
BEGIN:STANDARD
TZOFFSETFROM:+0200
TZOFFSETTO:+0100
TZNAME:CET
DTSTART:20231029T010000
END:STANDARD
BEGIN:DAYLIGHT
TZOFFSETFROM:+0100
TZOFFSETTO:+0200
TZNAME:CEST
DTSTART:20240331T010000
END:DAYLIGHT
BEGIN:STANDARD
TZOFFSETFROM:+0200
TZOFFSETTO:+0100
TZNAME:CET
DTSTART:20241027T010000
END:STANDARD
BEGIN:DAYLIGHT
TZOFFSETFROM:+0100
TZOFFSETTO:+0200
TZNAME:CEST
DTSTART:20250330T010000
END:DAYLIGHT
BEGIN:STANDARD
TZOFFSETFROM:+0200
TZOFFSETTO:+0100
TZNAME:CET
DTSTART:20251026T010000
END:STANDARD
END:VTIMEZONE
BEGIN:VEVENT
DTSTART;VALUE=DATE:20240810
DTEND;VALUE=DATE:20240811
DTSTAMP:20260421T160145
CREATED:20240308T165906Z
LAST-MODIFIED:20240808T073217Z
UID:10000218-1723248000-1723334399@www.dortmunder-prinzengarde.de
SUMMARY:Sommerfest - Ausflug nach Holland
DESCRIPTION:Wir folgen der Einladung zweier Prinzengarden-Mitglieder nach Holland.\nDer Tagesausflug mit „open End“ startet mit einer fröhlichen Busfahrt in Richtung Harderwijk\, dort stattfindender Floßfahrt auf der Hoge Vaart oder dem Veluwemeer (wetter- und teilnehmeranzahlabhängig) und anschließend ausgelassenem Grillabend mit Livemusik und DJ.\nDie Teilnahme am Ausflug ist nur für Mitglieder der Prinzengarde.\n \nStart ca. 08:15 Uhr\nEnde ? – Rückfahrt für die Busnutzer um 21:30 Uhr\n \n 
URL:https://www.dortmunder-prinzengarde.de/event/sommerfest-ausflug-nach-holland/
LOCATION:Holland\, Niederlande
CATEGORIES:Geschlossene Veranstaltung
ATTACH;FMTTYPE=image/jpeg:https://www.dortmunder-prinzengarde.de/wp-content/uploads/2024/03/DOPG-sommerfest2024.jpg
ORGANIZER;CN="Dortmunder Prinzengarde 2022 e.V.":MAILTO:info@dortmunder-prinzengarde.de
END:VEVENT
END:VCALENDAR